BEGIN:VCALENDAR
VERSION:2.0
PRODID:-//wp-events-plugin.com//7.0.2//EN
BEGIN:VEVENT
UID:280@internationaldataspaces.org
DTSTART;TZID=Europe/Berlin:20231212T100000
DTEND;TZID=Europe/Berlin:20231212T180000
DTSTAMP:20231025T142957Z
URL:https://internationaldataspaces.org/events/zvei-digital-conference/
SUMMARY:ZVEI Digital Conference
DESCRIPTION:Every year\, the "Führungskreis Industrie 4.0" conference\, or
 ganized by the Zentralverband der Elektroindustrie (ZVEI\, Germany's Elect
 ro and Digital Industry association) is held in December to present the re
 sults from Industry 4.0. The orientation of the topics and presentations w
 as always technical in nature with deep dives into the concrete implementa
 tion of use cases and development using the digital twin and the Asset Adm
 inistration Shell (AAS). With the establishment of Industrial Digital Twin
  Alliance (IDTA) and within the framework of the Tech Days organized by ID
 TA\, concrete technical implementations of the AAS are taken up and dealt 
 with.\n\nWith its new name "ZVEI Digital Conference"\, the conference now 
 addresses the topics of digitalization\, data spaces in production and pro
 ducts\, and sector coupling for all lead markets of the ZVEI. The target g
 roup includes decision-makers\, product managers\, production managers\, I
 T managers from member companies\, and representatives of the press.\n\nTo
  cover the data spaces topic as best as possible\, ZVEI invited IDSA CEO L
 ars Nagel to present how the IDS standard contributes to the successful da
 ta spaces and how a sovereign and cross-domain data space is actually buil
 t.\n\nJoin the ZVEI Digital Conference in Frankfurt! Presentation are held
  in the German language. For more (in German): www.zvei.org
ATTACH;FMTTYPE=image/jpeg:https://internationaldataspaces.org/wp-content/u
 ploads/ZVEI-Digitalkonferenz.png
CATEGORIES:Fairs &amp; Events
END:VEVENT
BEGIN:VTIMEZONE
TZID:Europe/Berlin
X-LIC-LOCATION:Europe/Berlin
BEGIN:STANDARD
DTSTART:20231029T020000
TZOFFSETFROM:+0200
TZOFFSETTO:+0100
TZNAME:CET
END:STANDARD
END:VTIMEZONE
END:VCALENDAR