BEGIN:VCALENDAR
VERSION:2.0
PRODID:-//wp-events-plugin.com//7.0.2//EN
BEGIN:VEVENT
UID:47@internationaldataspaces.org
DTSTART:20210422T130000Z
DTEND:20210422T160000Z
DTSTAMP:20210421T072328Z
URL:https://internationaldataspaces.org/events/web-seminar-getting-europea
 n-data-spaces-started/
SUMMARY:Web Seminar: Getting European Data Spaces Started
DESCRIPTION:European data spaces are key to the global\, digital economy. F
 or this\, we need a common understanding of how data spaces are built. \n\
 nAt the GAIA-X event Lars Nagel\, CEO IDSA\, will present the design princ
 iples for data spaces in detail.
ATTACH;FMTTYPE=image/jpeg:https://internationaldataspaces.org/wp-content/u
 ploads/210422-GAIA-X-European-Data-Spaces.png
CATEGORIES:Fairs &amp; Events
END:VEVENT
END:VCALENDAR