BEGIN:VCALENDAR
VERSION:2.0
PRODID:-//wp-events-plugin.com//7.0.2//EN
BEGIN:VEVENT
UID:307@internationaldataspaces.org
DTSTART:20240321T180000Z
DTEND:20240321T210000Z
DTSTAMP:20240318T162907Z
URL:https://internationaldataspaces.org/events/unveiling-the-brazilian-hub
 /
SUMMARY:Unveiling the Brazilian Hub
DESCRIPTION:Exciting news! IDSA and ABINC are teaming up to spearhead Brazi
 l's data economy revolution. Join us on March 21st at the ELDORADO Researc
 h Institute for the official launch of IDSA Hub Brazil. Learn about intern
 ational best practices\, explore data space initiatives in Brazil\, and di
 scover opportunities for collaboration. Don't miss out!
ATTACH;FMTTYPE=image/jpeg:https://internationaldataspaces.org/wp-content/u
 ploads/Malaysian-Hub-1.png
CATEGORIES:Fairs &amp; Events,IDSA Events &amp; Live Sessions
END:VEVENT
END:VCALENDAR