BEGIN:VCALENDAR
VERSION:2.0
PRODID:-//wp-events-plugin.com//7.0.2//EN
BEGIN:VEVENT
UID:599@internationaldataspaces.org
DTSTART;TZID=Europe/Berlin:20251211T113000
DTEND;TZID=Europe/Berlin:20251211T130000
DTSTAMP:20251105T085301Z
URL:https://internationaldataspaces.org/events/the-annual-idsa-update-glob
 al-data-space-adoption-taking-off/
SUMMARY:The Annual IDSA Update | Global data space adoption is taking off
DESCRIPTION:The 2025 edition of the Annual IDSA Update is here: We look bac
 k on a year in which data spaces gained even more momentum. We showcase th
 e key steps we have taken to accelerate the creation and adoption of data 
 spaces and drive their global expansion. Together\, we celebrate successes
 \, highlight important milestones\, and share exciting developments planne
 d for 2026.
ATTACH;FMTTYPE=image/jpeg:https://internationaldataspaces.org/wp-content/u
 ploads/Annual-IDSA-Update-1130-Visual.png
CATEGORIES:Fairs &amp; Events,IDSA Events &amp; Live Sessions
END:VEVENT
BEGIN:VTIMEZONE
TZID:Europe/Berlin
X-LIC-LOCATION:Europe/Berlin
BEGIN:STANDARD
DTSTART:20251026T020000
TZOFFSETFROM:+0200
TZOFFSETTO:+0100
TZNAME:CET
END:STANDARD
END:VTIMEZONE
END:VCALENDAR