BEGIN:VCALENDAR
VERSION:2.0
PRODID:-//wp-events-plugin.com//7.0.2//EN
BEGIN:VEVENT
UID:40@internationaldataspaces.org
DTSTART:20210414T083000Z
DTEND:20210414T100000Z
DTSTAMP:20210408T125241Z
URL:https://internationaldataspaces.org/events/telekom-idsa-insight-event-
 business-benefits/
SUMMARY:Telekom | IDSA Insight Event: Business Benefits Illustrated by a Mo
 bility Case
DESCRIPTION:Along with Deutsche Telekom\, we will present a business case f
 rom the mobility domain that offers insights into the concept and a reliab
 le prototype of an IDS based data space as well as the real life implement
 ation of the IDS technology. In short: The benefits of data sharing will b
 e illustrated. Subsequently\, Deutsche Telekom will demonstrate its Data I
 ntelligence Hub in a breakout session. Data Intelligence Hub encourages an
 d enables companies to share their data with business partners along commo
 n value chains. It is a secure business ecosystem according to the IDS pri
 nciples\, which has therefore successfully passed the IDS_ready assessment
 .
ATTACH;FMTTYPE=image/jpeg:https://internationaldataspaces.org/wp-content/u
 ploads/Telekom-IDSA-Insight-Event-900-506-1.png
CATEGORIES:IDSA Events &amp; Live Sessions
END:VEVENT
END:VCALENDAR