BEGIN:VCALENDAR
VERSION:2.0
PRODID:-//wp-events-plugin.com//7.0.2//EN
BEGIN:VEVENT
UID:227@internationaldataspaces.org
DTSTART;TZID=Europe/Berlin:20230420T100000
DTEND;TZID=Europe/Berlin:20230420T110000
DTSTAMP:20230406T084228Z
URL:https://internationaldataspaces.org/events/tech-talk-ids-reference-arc
 hitecture-model-the-standard-for-sovereign-data-sharing/
SUMMARY:Tech Talk | IDS Reference Architecture Model – the standard for s
 overeign data sharing
DESCRIPTION:The International Data Spaces Reference Architecture Model\, ID
 S-RAM for short\, is the blueprint for data sharing ecosystems – data sp
 aces in which data sovereignty and trust are guaranteed and common governa
 nce rules apply. What makes the IDS-RAM so important? Sebastian Steinbuss\
 , CTO at IDSA and IDS-RAM mastermind\, will go into depth: He will introdu
 ce the IDS-RAM\, show how data space experts have translated industry requ
 irements into the reference architecture\, how the IDS-RAM is built and ho
 w it unfolds its great value for building data spaces.
ATTACH;FMTTYPE=image/jpeg:https://internationaldataspaces.org/wp-content/u
 ploads/IDSA-Tech-Talk-IDS-RAM.png
CATEGORIES:Fairs &amp; Events,IDSA Events &amp; Live Sessions
END:VEVENT
BEGIN:VTIMEZONE
TZID:Europe/Berlin
X-LIC-LOCATION:Europe/Berlin
BEGIN:DAYLIGHT
DTSTART:20230326T030000
TZOFFSETFROM:+0100
TZOFFSETTO:+0200
TZNAME:CEST
END:DAYLIGHT
END:VTIMEZONE
END:VCALENDAR