BEGIN:VCALENDAR
VERSION:2.0
PRODID:-//wp-events-plugin.com//7.0.2//EN
BEGIN:VEVENT
UID:644@internationaldataspaces.org
DTSTART;TZID=Europe/Berlin:20260303T090000
DTEND;TZID=Europe/Berlin:20260303T100000
DTSTAMP:20260224T105724Z
URL:https://internationaldataspaces.org/events/solutions-arena-call-the-da
 ta-space-adoption-forum-solving-onboarding-bottlenecks-scaling-data-space-
 participation/
SUMMARY:Solutions Arena Call | The Data Space Adoption Forum: solving onboa
 rding bottlenecks\, scaling data space participation
DESCRIPTION:Curious about how to make data spaces work for you? Become subs
 criber of our Data Space User Group and join our Solutions Arena Call for 
 live demos\, practical insights\, and valuable knowlodge about data spaces
  — no deep tech skills needed. The March 2026 edition is worth joining t
 he User Group: It provides profound insights into the new Data Space Adopt
 ion Forum.
ATTACH;FMTTYPE=image/jpeg:https://internationaldataspaces.org/wp-content/u
 ploads/260303-IDSA-Solutions-Arena-Call-Visual.png
CATEGORIES:IDSA Events &amp; Live Sessions
END:VEVENT
BEGIN:VTIMEZONE
TZID:Europe/Berlin
X-LIC-LOCATION:Europe/Berlin
BEGIN:STANDARD
DTSTART:20251026T020000
TZOFFSETFROM:+0200
TZOFFSETTO:+0100
TZNAME:CET
END:STANDARD
END:VTIMEZONE
END:VCALENDAR