BEGIN:VCALENDAR
VERSION:2.0
PRODID:-//wp-events-plugin.com//7.0.2//EN
BEGIN:VEVENT
UID:542@internationaldataspaces.org
DTSTART;TZID=Europe/Berlin:20250701T090000
DTEND;TZID=Europe/Berlin:20250701T100000
DTSTAMP:20250610T140903Z
URL:https://internationaldataspaces.org/events/solutions-arena-call-how-to
 -create-use-cases-for-data-spaces/
SUMMARY:Solutions Arena Call | How to create use cases for data spaces
DESCRIPTION:Curious about how to make data spaces work for you? Become subs
 criber of our Data Space User Group and join our Solutions Arena Call for 
 live demos\, practical insights\, and valuable knowlodge about data spaces
 —no deep tech skills needed.
ATTACH;FMTTYPE=image/jpeg:https://internationaldataspaces.org/wp-content/u
 ploads/250701-Data-Space-User-Group_Solutions-Arena-Call_visual.png
CATEGORIES:Fairs &amp; Events,IDSA Events &amp; Live Sessions
END:VEVENT
BEGIN:VTIMEZONE
TZID:Europe/Berlin
X-LIC-LOCATION:Europe/Berlin
BEGIN:DAYLIGHT
DTSTART:20250330T030000
TZOFFSETFROM:+0100
TZOFFSETTO:+0200
TZNAME:CEST
END:DAYLIGHT
END:VTIMEZONE
END:VCALENDAR