BEGIN:VCALENDAR
VERSION:2.0
PRODID:-//wp-events-plugin.com//7.0.2//EN
BEGIN:VEVENT
UID:367@internationaldataspaces.org
DTSTART;TZID=Europe/Berlin:20240916T090000
DTEND;TZID=Europe/Berlin:20240916T160000
DTSTAMP:20240716T144614Z
URL:https://internationaldataspaces.org/events/second-interoperability-sum
 mit-efficient-through-the-digital-transformation/
SUMMARY:VDMA | Second Interoperability Summit - Efficient through the digit
 al transformation
DESCRIPTION:Join the Interoperability Summit to explore the transformative 
 potential of digital technologies through the prism of interoperability. T
 his event is catered to a diverse group of professionals committed to unve
 iling the dynamic interplay between various technological solutions\, aimi
 ng to forge a more efficient and innovative future for our industry.
ATTACH;FMTTYPE=image/jpeg:https://internationaldataspaces.org/wp-content/u
 ploads/VDMA-Interoperability-Summit-Visual-16-9.png
CATEGORIES:Fairs &amp; Events
LOCATION:VDMA Room 1\, Lyoner Str. 18\, Frankfurt am Main\, Germany
X-APPLE-STRUCTURED-LOCATION;VALUE=URI;X-ADDRESS=Lyoner Str. 18\, Frankfurt 
 am Main\, Germany;X-APPLE-RADIUS=100;X-TITLE=VDMA Room 1:geo:0,0
END:VEVENT
BEGIN:VTIMEZONE
TZID:Europe/Berlin
X-LIC-LOCATION:Europe/Berlin
BEGIN:DAYLIGHT
DTSTART:20240331T030000
TZOFFSETFROM:+0100
TZOFFSETTO:+0200
TZNAME:CEST
END:DAYLIGHT
END:VTIMEZONE
END:VCALENDAR