BEGIN:VCALENDAR
VERSION:2.0
PRODID:-//wp-events-plugin.com//7.0.2//EN
BEGIN:VEVENT
UID:204@internationaldataspaces.org
DTSTART;VALUE=DATE:20230417
DTEND;VALUE=DATE:20230422
DTSTAMP:20230117T095930Z
URL:https://internationaldataspaces.org/events/privacy-symposioum-2023/
SUMMARY:Privacy Symposium 2023
DESCRIPTION:The Privacy Symposium will promote international dialogue\, coo
 peration\, and knowledge transfer on data privacy and data protection regu
 lations\, compliance\, and emerging technologies. \nRecommended sessions o
 n April 17 "Making Data Space Secure" and April 18 "Where Data Space meets
  Legal Space" in which both IDSA will be taking part.
ATTACH;FMTTYPE=image/jpeg:https://internationaldataspaces.org/wp-content/u
 ploads/Visual-7-pdf.jpg
CATEGORIES:Fairs &amp; Events
LOCATION:Università Ca’ Foscari\, Dorsoduro 3246\, Venice\, 30123\, Ital
 y
X-APPLE-STRUCTURED-LOCATION;VALUE=URI;X-ADDRESS=Dorsoduro 3246\, Venice\, 3
 0123\, Italy;X-APPLE-RADIUS=100;X-TITLE=Università Ca’ Foscari:geo:0,0
END:VEVENT
END:VCALENDAR