BEGIN:VCALENDAR
VERSION:2.0
PRODID:-//wp-events-plugin.com//7.0.2//EN
BEGIN:VEVENT
UID:646@internationaldataspaces.org
DTSTART;TZID=Europe/Berlin;VALUE=DATE:20260324
DTEND;TZID=Europe/Berlin;VALUE=DATE:20260327
DTSTAMP:20260227T092251Z
URL:https://internationaldataspaces.org/events/openchain-and-friends-2026-
 build-a-more-trusted-supply-chain/
SUMMARY:OpenChain and Friends 2026 | Build a more trusted supply chain
DESCRIPTION:OpenChain and Friends 2026 brings together representatives from
  industry\, research institutions\, the public sector\, and open source co
 mmunities. The primary focus of the event is the responsible\, secure\, an
 d scalable use of open source in the context of software applications alon
 g supply chains and digital ecosystems. Discussions address governance\, c
 ompliance\, cybersecurity\, engineering practices\, digital sovereignty\, 
 and collaborative open source development models.
ATTACH;FMTTYPE=image/jpeg:https://internationaldataspaces.org/wp-content/u
 ploads/OpenChain-and-Friends-Visual.png
CATEGORIES:Fairs &amp; Events
LOCATION:Robert Bosch GmbH – Service and Supply Chain Campus\, Bregenzer 
 Str. 26A\, Stuttgart\, 70469 \, Germany
X-APPLE-STRUCTURED-LOCATION;VALUE=URI;X-ADDRESS=Bregenzer Str. 26A\, Stuttg
 art\, 70469 \, Germany;X-APPLE-RADIUS=100;X-TITLE=Robert Bosch GmbH – Se
 rvice and Supply Chain Campus:geo:0,0
END:VEVENT
BEGIN:VTIMEZONE
TZID:Europe/Berlin
X-LIC-LOCATION:Europe/Berlin
BEGIN:STANDARD
DTSTART:20251026T020000
TZOFFSETFROM:+0200
TZOFFSETTO:+0100
TZNAME:CET
END:STANDARD
END:VTIMEZONE
END:VCALENDAR