BEGIN:VCALENDAR
VERSION:2.0
PRODID:-//wp-events-plugin.com//7.0.2//EN
BEGIN:VEVENT
UID:161@internationaldataspaces.org
DTSTART:20220910T080000Z
DTEND:20220910T083000Z
DTSTAMP:20220727T163719Z
URL:https://internationaldataspaces.org/events/online-workshop-data-space-
 tools/
SUMMARY:Online Workshop | (Data) Space Tools
DESCRIPTION:In the Gaia-X context\, there are various abbreviations for con
 nectors or other software components: EDC\, IDS\, DSC\, MVG. Besides these
  tools\, there are numerous others. Maybe you ask yourself: Do you want to
  work in Data Spaces\, but have lost track? Which tool should I use\, in w
 hich contexts does which one bring more advantages? Do I stick with open s
 ource or use a private tool?
ATTACH;FMTTYPE=image/jpeg:https://internationaldataspaces.org/wp-content/u
 ploads/Data-Space-Tools.jpg
CATEGORIES:Fairs &amp; Events
END:VEVENT
END:VCALENDAR