BEGIN:VCALENDAR
VERSION:2.0
PRODID:-//wp-events-plugin.com//7.0.2//EN
BEGIN:VEVENT
UID:304@internationaldataspaces.org
DTSTART;TZID=Europe/Helsinki:20240410T090000
DTEND;TZID=Europe/Helsinki:20240410T170000
DTSTAMP:20240215T133142Z
URL:https://internationaldataspaces.org/events/nordic-data-festival-2024/
SUMMARY:Nordic Data Festival 2024
DESCRIPTION:A one-day live event that will showcase and explore opportuniti
 es in sharing\, exchanging\, and using data in business\, to create new\, 
 scalable value for growth and the international market.
ATTACH;FMTTYPE=image/jpeg:https://internationaldataspaces.org/wp-content/u
 ploads/nordic-data-festival-2024-yleiskuva1-1-1536x864-1.webp
CATEGORIES:Fairs &amp; Events
LOCATION:Clarion Hotel Helsinki\, Tyynenmerenkatu 2\, Helsinki\, Finland
X-APPLE-STRUCTURED-LOCATION;VALUE=URI;X-ADDRESS=Tyynenmerenkatu 2\, Helsink
 i\, Finland;X-APPLE-RADIUS=100;X-TITLE=Clarion Hotel Helsinki:geo:0,0
END:VEVENT
BEGIN:VTIMEZONE
TZID:Europe/Helsinki
X-LIC-LOCATION:Europe/Helsinki
BEGIN:DAYLIGHT
DTSTART:20240331T040000
TZOFFSETFROM:+0200
TZOFFSETTO:+0300
TZNAME:EEST
END:DAYLIGHT
END:VTIMEZONE
END:VCALENDAR