BEGIN:VCALENDAR
VERSION:2.0
PRODID:-//wp-events-plugin.com//7.0.2//EN
BEGIN:VEVENT
UID:99@internationaldataspaces.org
DTSTART:20211126T120000Z
DTEND:20211126T143000Z
DTSTAMP:20211108T085213Z
URL:https://internationaldataspaces.org/events/motorways-of-the-sea-digita
 l-forum/
SUMMARY:Motorways of the Sea Digital Forum
DESCRIPTION:On November 26\, the Motorways of the Sea Digital Forum will sh
 are relevant topics\, seek stakeholders' views on the new Motorways of the
  Sea implementation plan\, and offer presentations on topics such as energ
 y transition\, digitalization\, and sustainable infrastructures. Crucial i
 n this context is a secure and sovereign exchange of data and information 
 to make maritime logistics as efficient as possible. Thus\, the IDS-based 
 Maritime Data Space...
ATTACH;FMTTYPE=image/jpeg:https://internationaldataspaces.org/wp-content/u
 ploads/Motorway-of-the-Seas.png
CATEGORIES:Fairs &amp; Events
END:VEVENT
END:VCALENDAR