BEGIN:VCALENDAR
VERSION:2.0
PRODID:-//wp-events-plugin.com//7.0.2//EN
BEGIN:VEVENT
UID:112@internationaldataspaces.org
DTSTART;VALUE=DATE:20220228
DTEND;VALUE=DATE:20220304
DTSTAMP:20220216T101924Z
URL:https://internationaldataspaces.org/events/mobile-world-congress-barce
 lona-2022/
SUMMARY:Mobile World Congress Barcelona 2022
DESCRIPTION:Mobile World Congress Barcelona (MWC) is the world’s most inf
 luential event for the connectivity industry. Companies and trailblazers c
 ome together to share their thoughts about the progression and future of d
 igital connectivity. MWC is attended by global mobile operators\, device m
 anufacturers\, technology providers\, vendors\, and content owners. There\
 , trends and innovations are set that will drive the digital transformatio
 n. Digital transformation – inconceivable without secure and sovereign d
 ata exchange based on the IDS standard.
ATTACH;FMTTYPE=image/jpeg:https://internationaldataspaces.org/wp-content/u
 ploads/MWC-Barcelona-2.png
CATEGORIES:Fairs &amp; Events
END:VEVENT
END:VCALENDAR