BEGIN:VCALENDAR
VERSION:2.0
PRODID:-//wp-events-plugin.com//7.0.2//EN
BEGIN:VEVENT
UID:125@internationaldataspaces.org
DTSTART:20220131T090000Z
DTEND:20220131T120000Z
DTSTAMP:20220127T160051Z
URL:https://internationaldataspaces.org/events/media-data-space-workshop/
SUMMARY:Media Data Space Workshop
DESCRIPTION:Are you a european media stakeholder interested in shaping the 
 future of european media industry? - Join us in the Media Data Space Works
 hop!
ATTACH;FMTTYPE=image/jpeg:https://internationaldataspaces.org/wp-content/u
 ploads/Media-Workshop1.jpg
CATEGORIES:Fairs &amp; Events
END:VEVENT
END:VCALENDAR