BEGIN:VCALENDAR
VERSION:2.0
PRODID:-//wp-events-plugin.com//7.0.2//EN
BEGIN:VEVENT
UID:417@internationaldataspaces.org
DTSTART;TZID=Europe/Berlin:20241114T130000
DTEND;TZID=Europe/Berlin:20241114T160000
DTSTAMP:20241106T081742Z
URL:https://internationaldataspaces.org/events/launch-conference-for-the-d
 ansk-data-space-forum/
SUMMARY:Launch Conference for the Dansk Data Space Forum
DESCRIPTION:The Agency for Digitisation is set to launch the Danish Data Sp
 ace Forum\, a new initiative aimed at enhancing data sharing by fostering 
 collaboration between the private and public sectors. This forum will supp
 ort the development of Data Spaces in Denmark and across Europe. As part o
 f Denmark's Digitalisation Strategy\, the initiative will include establis
 hing a Danish Gaia-X hub\, which will serve as a national contact and coor
 dination center for Danish stakeholders in the European data economy. Save
  the date! The Agency for Digitisation will host a launch conference for t
 he Danish Data Space Forum on 14 November 2024. 
ATTACH;FMTTYPE=image/jpeg:https://internationaldataspaces.org/wp-content/u
 ploads/Dansk-Data-Space-Forum-Visual-16-9.png
CATEGORIES:Fairs &amp; Events
LOCATION:Dansk Standard\, Gdanskgade 2\, 2150 Copenhagen\, Denmark
X-APPLE-STRUCTURED-LOCATION;VALUE=URI;X-ADDRESS=Gdanskgade 2\, 2150 Copenha
 gen\, Denmark;X-APPLE-RADIUS=100;X-TITLE=Dansk Standard:geo:0,0
END:VEVENT
BEGIN:VTIMEZONE
TZID:Europe/Berlin
X-LIC-LOCATION:Europe/Berlin
BEGIN:STANDARD
DTSTART:20241027T020000
TZOFFSETFROM:+0200
TZOFFSETTO:+0100
TZNAME:CET
END:STANDARD
END:VTIMEZONE
END:VCALENDAR