BEGIN:VCALENDAR
VERSION:2.0
PRODID:-//wp-events-plugin.com//7.0.2//EN
BEGIN:VEVENT
UID:180@internationaldataspaces.org
DTSTART:20220927T080000Z
DTEND:20220927T103000Z
DTSTAMP:20220907T141141Z
URL:https://internationaldataspaces.org/events/kick-off-event-of-the-ids-c
 hina-resarch-lab/
SUMMARY:Kick-off event of the IDS China Research Lab
DESCRIPTION:The IDS China Research Lab is being established to have a commo
 n place and platform in China for information and knowledge sharing\, R&D 
 activities and multilateral implementation projects around the topic of so
 vereign and secure data sharing. And how this will be implemented in reali
 ty\, who is involved and which projects are planned\, you will find out in
  the kick-off event at the end of September. 
ATTACH;FMTTYPE=image/jpeg:https://internationaldataspaces.org/wp-content/u
 ploads/Visual_Kick-off-event-IDS-China-Lab_16-9-2.png
CATEGORIES:IDSA Events &amp; Live Sessions
END:VEVENT
END:VCALENDAR