BEGIN:VCALENDAR
VERSION:2.0
PRODID:-//wp-events-plugin.com//7.0.2//EN
BEGIN:VEVENT
UID:107@internationaldataspaces.org
DTSTART:20211125T100000Z
DTEND:20211125T224500Z
DTSTAMP:20211123T120750Z
URL:https://internationaldataspaces.org/events/is-industry-4-0-going-to-wi
 den-the-gender-gap-in-manufacturing/
SUMMARY:Is Industry 4.0 going to widen the Gender Gap in Manufacturing?
DESCRIPTION:The Fourth Industrial Revolution\, or Industry 4.0\, is disrupt
 ing the manufacturing industry and its labour market.
ATTACH;FMTTYPE=image/jpeg:https://internationaldataspaces.org/wp-content/u
 ploads/IDSA_WomeninAI_Banner-1.png
CATEGORIES:Fairs &amp; Events
END:VEVENT
END:VCALENDAR