BEGIN:VCALENDAR
VERSION:2.0
PRODID:-//wp-events-plugin.com//7.0.2//EN
BEGIN:VEVENT
UID:13@internationaldataspaces.org
DTSTART:20210830T083000Z
DTEND:20210903T144500Z
DTSTAMP:20210823T161551Z
URL:https://internationaldataspaces.org/events/iot-week-2021/
SUMMARY:IoT Week 2021
DESCRIPTION:The virtual IoT Week 2021 will welcome the industry leaders\, l
 ead researchers and public service representatives not only from Europe bu
 t from around the world to share their views on how the technology can ser
 ve society better and identify what are the technological and societal cha
 llenges today. Data spaces are one of the key topics at the IoT Week. In t
 he panel "IoT Market Perspectives on Data Economy" some serious questions 
 on data spaces will be asked\, valuable answers will be given!
ATTACH;FMTTYPE=image/jpeg:https://internationaldataspaces.org/wp-content/u
 ploads/210831-IoT-Week.png
CATEGORIES:Fairs &amp; Events
END:VEVENT
END:VCALENDAR