BEGIN:VCALENDAR
VERSION:2.0
PRODID:-//wp-events-plugin.com//7.0.2//EN
BEGIN:VEVENT
UID:240@internationaldataspaces.org
DTSTART:20230606T130000Z
DTEND:20230607T222000Z
DTSTAMP:20230530T150811Z
URL:https://internationaldataspaces.org/events/intelligent-infrastructure-
 2023/
SUMMARY:Intelligent Infrastructure 2023
DESCRIPTION:Accelerate economic growth in the digital age with our integrat
 ed intelligent infrastructure. Our program addresses critical challenges i
 n making this innovation a reality\, including collaboration on shared inf
 rastructure\, data sharing models\, standards\, regulations\, compliance\,
  and the latest technology implementations. Learn more about our CEO\, Lar
 s Nagel\, who will participate in two panel discussions: "Creating a Data 
 Collaboration Platform" and "Trust & Data in Transport Systems." Drive pro
 gress\, shape the future sustainably\, and strive towards a carbon-free en
 vironment.
ATTACH;FMTTYPE=image/jpeg:https://internationaldataspaces.org/wp-content/u
 ploads/MicrosoftTeams-image-4.png
CATEGORIES:Fairs &amp; Events
END:VEVENT
END:VCALENDAR