BEGIN:VCALENDAR
VERSION:2.0
PRODID:-//wp-events-plugin.com//7.0.2//EN
BEGIN:VEVENT
UID:647@internationaldataspaces.org
DTSTART;TZID=Europe/Berlin;VALUE=DATE:20260420
DTEND;TZID=Europe/Berlin;VALUE=DATE:20260425
DTSTAMP:20260416T135332Z
URL:https://internationaldataspaces.org/events/industrial-data-spaces-in-a
 ction-simple-scalable-profitable-hannover-messe-2026/
SUMMARY:Industrial Data Spaces in Action – Simple\, Scalable\, Profitable
  | Hannover Messe 2026
DESCRIPTION:Industrial data spaces in action – simple\, scalable\, profit
 able is IDSA's event during Hannover Messe 2026\, April 20 to 26\, 2026. T
 he event will take place in the Hannover Messe Convention Center. Turning 
 Data Space Vision into Business Reality: Data Spaces are moving from conc
 ept to implementation. Across Europe and beyond\, industrial ecosystems ar
 e embracing trusted data sharing as a foundation for resilience\, innovati
 on and competitive advantage.
ATTACH;FMTTYPE=image/jpeg:https://internationaldataspaces.org/wp-content/u
 ploads/Industrial-Data-Spaces-in-Action-at-Hannover-Messe-2026-visual-3.we
 bp
CATEGORIES:IDSA Events &amp; Live Sessions
END:VEVENT
BEGIN:VTIMEZONE
TZID:Europe/Berlin
X-LIC-LOCATION:Europe/Berlin
BEGIN:DAYLIGHT
DTSTART:20260329T030000
TZOFFSETFROM:+0100
TZOFFSETTO:+0200
TZNAME:CEST
END:DAYLIGHT
END:VTIMEZONE
END:VCALENDAR