BEGIN:VCALENDAR
VERSION:2.0
PRODID:-//wp-events-plugin.com//7.0.2//EN
BEGIN:VEVENT
UID:272@internationaldataspaces.org
DTSTART;TZID=Europe/Berlin:20230926T100000
DTEND;TZID=Europe/Berlin:20230927T170000
DTSTAMP:20230925T113721Z
URL:https://internationaldataspaces.org/events/idsa-working-group-meetings
 -community-meet-up/
SUMMARY:IDSA Working Group meetings & open Community Meet-up
DESCRIPTION:A "real" community meeting again! On September 26 & 27\, we’l
 l combine the first on-site Working Group meetings since a long time with 
 an IDSA Community Meet-up open to all – join us in Düsseldorf to shape 
 the future of the data economy! Expect plenty of room for information exch
 ange\, consultation and networking.
ATTACH;FMTTYPE=image/jpeg:https://internationaldataspaces.org/wp-content/u
 ploads/IDSA-WG-and-Community-Meet-up.png
CATEGORIES:Fairs &amp; Events,IDSA Events &amp; Live Sessions
END:VEVENT
BEGIN:VTIMEZONE
TZID:Europe/Berlin
X-LIC-LOCATION:Europe/Berlin
BEGIN:DAYLIGHT
DTSTART:20230326T030000
TZOFFSETFROM:+0100
TZOFFSETTO:+0200
TZNAME:CEST
END:DAYLIGHT
END:VTIMEZONE
END:VCALENDAR