BEGIN:VCALENDAR
VERSION:2.0
PRODID:-//wp-events-plugin.com//7.0.2//EN
BEGIN:VEVENT
UID:291@internationaldataspaces.org
DTSTART;TZID=Europe/Amsterdam;VALUE=DATE:20240206
DTEND;TZID=Europe/Amsterdam;VALUE=DATE:20240208
DTSTAMP:20240207T101339Z
URL:https://internationaldataspaces.org/events/idsa-winterdays-data-sharin
 g-festival/
SUMMARY:IDSA Winterdays & Data Sharing Festival
DESCRIPTION:IDSA Winterdays\, our big community event\, will return on Febr
 uary 6 & 7\, 2024. The Winterdays provide an interactive platform for addr
 essing questions\, overcoming challenges\, contributing knowledge and gain
 ing inspiration to impact the evolving landscape of data spaces. The IDSA 
 Winterdays are part of the broader Data Sharing Festival\, an ongoing expl
 oration of data sharing excellence. Together with Dutch key players in the
  data spaces landscape we've crafted a one-of-a-kind business festival tha
 t converges three critical viewpoints – privacy\, cybersecurity\, and da
 ta sovereignty.
ATTACH;FMTTYPE=image/jpeg:https://internationaldataspaces.org/wp-content/u
 ploads/240115-IDSA-Winterdays-Web-Visual.png
CATEGORIES:Fairs &amp; Events
END:VEVENT
BEGIN:VTIMEZONE
TZID:Europe/Amsterdam
X-LIC-LOCATION:Europe/Amsterdam
BEGIN:STANDARD
DTSTART:20231029T020000
TZOFFSETFROM:+0200
TZOFFSETTO:+0100
TZNAME:CET
END:STANDARD
END:VTIMEZONE
END:VCALENDAR