BEGIN:VCALENDAR
VERSION:2.0
PRODID:-//wp-events-plugin.com//7.0.2//EN
BEGIN:VEVENT
UID:109@internationaldataspaces.org
DTSTART;VALUE=DATE:20220216
DTEND;VALUE=DATE:20220218
DTSTAMP:20220208T104449Z
URL:https://internationaldataspaces.org/events/idsa-winterdays-2022/
SUMMARY:IDSA Winterdays 2022 | Trust all the Way
DESCRIPTION:Trust. Trust\, along with interoperability and governance\, is 
 an indispensable prerequisite for the design of a data space. Anyone who w
 ants to share data must trust the partner in a data space. The IDS referen
 ce architecture puts trust at its core. IDS connectors are designed for tr
 ust-based data sharing. IDS certification confirms the trustworthiness of 
 components and operating environments. Use cases and data spaces show how 
 trust is turned into value. In short: Trust all the way. That is the motto
  of our Winterdays 2022.
ATTACH;FMTTYPE=image/jpeg:https://internationaldataspaces.org/wp-content/u
 ploads/Winter-days-1600-900.png
CATEGORIES:Fairs &amp; Events,IDSA Events &amp; Live Sessions
END:VEVENT
END:VCALENDAR