BEGIN:VCALENDAR
VERSION:2.0
PRODID:-//wp-events-plugin.com//7.0.2//EN
BEGIN:VEVENT
UID:329@internationaldataspaces.org
DTSTART;TZID=Europe/Berlin:20240529T160000
DTEND;TZID=Europe/Berlin:20240529T170000
DTSTAMP:20240507T140024Z
URL:https://internationaldataspaces.org/events/idsa-tech-talk-smooth-data-
 sharing-with-the-prometheus-x-connector-and-the-dataspace-protocol/
SUMMARY:IDSA Tech Talk | Smooth personal data sharing with the Prometheus-X
  Connector and the Dataspace Protocol
DESCRIPTION:In this IDSA Tech Talk \, you'll discover the innovative Promet
 heus-X Connector\, designed for personal data sharing. It uses the cutting
 -edge Dataspace Protocol to revolutionize the practice of sharing personal
  data. But what is so revolutionary about the Prometheus-X Connector? Get 
 to know it in our Tech Talk!
ATTACH;FMTTYPE=image/jpeg:https://internationaldataspaces.org/wp-content/u
 ploads/240529-IDSA-Tech-Talk-Smooth-personal-data-sharing.png
CATEGORIES:Fairs &amp; Events,IDSA Events &amp; Live Sessions
END:VEVENT
BEGIN:VTIMEZONE
TZID:Europe/Berlin
X-LIC-LOCATION:Europe/Berlin
BEGIN:DAYLIGHT
DTSTART:20240331T030000
TZOFFSETFROM:+0100
TZOFFSETTO:+0200
TZNAME:CEST
END:DAYLIGHT
END:VTIMEZONE
END:VCALENDAR