BEGIN:VCALENDAR
VERSION:2.0
PRODID:-//wp-events-plugin.com//7.0.2//EN
BEGIN:VEVENT
UID:315@internationaldataspaces.org
DTSTART;TZID=Europe/Berlin:20240418T100000
DTEND;TZID=Europe/Berlin:20240418T110000
DTSTAMP:20240404T142035Z
URL:https://internationaldataspaces.org/events/idsa-tech-talk-a-minimal-vi
 able-data-space-with-eclipse-dataspace-components-intel-software-guard-ext
 ensions/
SUMMARY:IDSA Tech Talk | A minimal viable data space – with Eclipse Datas
 pace Components & Intel Software Guard Extensions
DESCRIPTION:Mastering the Dataspace Protocol: This Tech Talk illuminates th
 e Dataspace Protocol's significance in today's data-driven landscape. The 
 protocol isn't just a technological solution\; it's a strategic enabler. R
 eady to learn more about it? Don't miss out - register now!
ATTACH;FMTTYPE=image/jpeg:https://internationaldataspaces.org/wp-content/u
 ploads/240418-Tech-Talk-MVDS-16-9.png
CATEGORIES:Fairs &amp; Events,IDSA Events &amp; Live Sessions
END:VEVENT
BEGIN:VTIMEZONE
TZID:Europe/Berlin
X-LIC-LOCATION:Europe/Berlin
BEGIN:DAYLIGHT
DTSTART:20240331T030000
TZOFFSETFROM:+0100
TZOFFSETTO:+0200
TZNAME:CEST
END:DAYLIGHT
END:VTIMEZONE
END:VCALENDAR