BEGIN:VCALENDAR
VERSION:2.0
PRODID:-//wp-events-plugin.com//7.0.2//EN
BEGIN:VEVENT
UID:495@internationaldataspaces.org
DTSTART;TZID=Europe/Berlin:20250401T090000
DTEND;TZID=Europe/Berlin:20250401T100000
DTSTAMP:20250303T161825Z
URL:https://internationaldataspaces.org/events/idsa-qa-session-your-essent
 ial-guide-to-data-spaces-9/
SUMMARY:IDSA Q&A Session | Your essential guide to data spaces
DESCRIPTION:Join us for another exciting Q&A session! We’ll dive into the
  incredible benefits that the International Data Spaces Association (IDSA)
  and International Data Spaces (IDS) can offer. Discover how you can activ
 ely participate in co-creating the IDS standard and harness IDS technology
  to elevate your business. We’ll explore how to turn your application sc
 enarios into profitable business models and the key steps to transform the
 se models into secure and sovereign data spaces. Sound interesting? Don’
 t miss out!
ATTACH;FMTTYPE=image/jpeg:https://internationaldataspaces.org/wp-content/u
 ploads/IDSA-Live-Sessions-Visuals-5.png
CATEGORIES:IDSA Events &amp; Live Sessions
END:VEVENT
BEGIN:VTIMEZONE
TZID:Europe/Berlin
X-LIC-LOCATION:Europe/Berlin
BEGIN:DAYLIGHT
DTSTART:20250330T030000
TZOFFSETFROM:+0100
TZOFFSETTO:+0200
TZNAME:CEST
END:DAYLIGHT
END:VTIMEZONE
END:VCALENDAR