BEGIN:VCALENDAR
VERSION:2.0
PRODID:-//wp-events-plugin.com//7.0.2//EN
BEGIN:VEVENT
UID:9@internationaldataspaces.org
DTSTART;VALUE=DATE:20201124
DTEND;VALUE=DATE:20201125
DTSTAMP:20201027T140113Z
URL:https://internationaldataspaces.org/events/idc-european-manufacturing-
 executive-digital-forum/
SUMMARY:IDC European Manufacturing Executive Digital Forum
DESCRIPTION:Manufacturing Resilience to succeed in the “next normal”\n\
 nThe impact of the COVID-19 pandemic on manufacturing is long term and far
 -reaching. It not only impacts the operations and financial stability of m
 anufacturing companies but also their technology suppliers.\n\nThe post-pa
 ndemic world will see a new normal of manufacturers focused on remote capa
 bilities in operations\, product innovation\, supply chain\, and customer 
 management.\n\nThat focus will drive significant investment in process aut
 omation\, centralized asset monitoring and diagnostics\, and cloud-based c
 ollaboration tools.\n\nThe goal will be to support resiliency in all aspec
 ts of the business\, as well as resilient decision making.\n\nDuring the I
 DC European Manufacturing Executive Digital Forum 2020 we will look into w
 hat “next normal” means to manufacturers\, why the business case for d
 igitalization is stronger than ever and how technology can demonstrate val
 ue to the business.\n\nWe look forward to connecting with you soon!\n\nFor
  further information and registration click here.
ATTACH;FMTTYPE=image/jpeg:https://internationaldataspaces.org/wp-content/u
 ploads/IDC-Forum.jpg
END:VEVENT
END:VCALENDAR