BEGIN:VCALENDAR
VERSION:2.0
PRODID:-//wp-events-plugin.com//7.0.2//EN
BEGIN:VEVENT
UID:287@internationaldataspaces.org
DTSTART;TZID=Europe/Berlin:20231201T110000
DTEND;TZID=Europe/Berlin:20231201T130000
DTSTAMP:20231127T123303Z
URL:https://internationaldataspaces.org/events/how-to-drive-business-value
 -with-digital-product-passports-data-spaces/
SUMMARY:How to drive business value with Digital Product Passports & data s
 paces
DESCRIPTION:Join us on our event organized by International Data Spaces As
 sociation (IDSA)\, hosted by DFA & DS 4.0. How to drive business value 
 with Digital Product Passports & Data spaces: An open dialogue on Circular
  Economy use cases from different domains. \n
ATTACH;FMTTYPE=image/jpeg:https://internationaldataspaces.org/wp-content/u
 ploads/Circular-Economy-Workshop-1920-x-1080-px.png
CATEGORIES:IDSA Events &amp; Live Sessions
END:VEVENT
BEGIN:VTIMEZONE
TZID:Europe/Berlin
X-LIC-LOCATION:Europe/Berlin
BEGIN:STANDARD
DTSTART:20231029T020000
TZOFFSETFROM:+0200
TZOFFSETTO:+0100
TZNAME:CET
END:STANDARD
END:VTIMEZONE
END:VCALENDAR