BEGIN:VCALENDAR
VERSION:2.0
PRODID:-//wp-events-plugin.com//7.0.2//EN
BEGIN:VEVENT
UID:469@internationaldataspaces.org
DTSTART;TZID=Europe/Berlin:20250402T143000
DTEND;TZID=Europe/Berlin:20250402T173000
DTSTAMP:20250404T080124Z
URL:https://internationaldataspaces.org/events/hannover-messe-2025-data-sp
 aces-for-industry-event-innovate-scale-compete-with-industrial-data-spaces
 /
SUMMARY:Hannover Messe 2025 | Data spaces for industry event: Innovate\, sc
 ale\, compete with industrial data spaces
DESCRIPTION:Join us on April 2 for a groundbreaking "Data Spaces for Indust
 ry" event\, co-hosted with VDMA\, the German Mechanical Engineering Indust
 ry Association. Experience how data spaces are transforming global industr
 y through live demonstrations and expert insights. Discover real-world app
 lications that are already revolutionizing industrial operations: building
  resilient\, future-proof supply chains\; advancing networked machinery an
 d plant production\; enabling Digital Product Passport implementation\; in
 novating circular economy and reducing carbon production footprint.
ATTACH;FMTTYPE=image/jpeg:https://internationaldataspaces.org/wp-content/u
 ploads/Data-spaces-for-industry-event_visual-16-9_2.png
CATEGORIES:Fairs &amp; Events,IDSA Events &amp; Live Sessions
LOCATION:Hannover Messe Convention Center\, Hannover Messe Fairground\, Han
 nover\, 30521\, Germany
X-APPLE-STRUCTURED-LOCATION;VALUE=URI;X-ADDRESS=Hannover Messe Fairground\,
  Hannover\, 30521\, Germany;X-APPLE-RADIUS=100;X-TITLE=Hannover Messe Conv
 ention Center:geo:0,0
END:VEVENT
BEGIN:VTIMEZONE
TZID:Europe/Berlin
X-LIC-LOCATION:Europe/Berlin
BEGIN:DAYLIGHT
DTSTART:20250330T030000
TZOFFSETFROM:+0100
TZOFFSETTO:+0200
TZNAME:CEST
END:DAYLIGHT
END:VTIMEZONE
END:VCALENDAR