BEGIN:VCALENDAR
VERSION:2.0
PRODID:-//wp-events-plugin.com//7.0.2//EN
BEGIN:VEVENT
UID:286@internationaldataspaces.org
DTSTART;VALUE=DATE:20231212
DTEND;VALUE=DATE:20231215
DTSTAMP:20231109T120518Z
URL:https://internationaldataspaces.org/events/global-partnership-on-artif
 icial-intelligence-summit-2023/
SUMMARY:Global Partnership on Artificial Intelligence Summit 2023
DESCRIPTION:The GPAI Summit is a significant event encompassing essential g
 overnance meetings and a diverse range of activities that spotlight advanc
 ements in AI and foster discussions. These activities comprise industry pa
 nel discussions\, workshops\, recognition of innovative startups with Game
 changer awards\, a research symposium\, hackathons\, and the Global AI Exp
 o.
ATTACH;FMTTYPE=image/jpeg:https://internationaldataspaces.org/wp-content/u
 ploads/Picture1-3.jpg
CATEGORIES:Fairs &amp; Events
LOCATION:Ministry of Electronics and Information Technology\, Electronics N
 iketan\, 6\, CGO Complex\, Lodhi Road\, New Delhi \, India
X-APPLE-STRUCTURED-LOCATION;VALUE=URI;X-ADDRESS=Electronics Niketan\, 6\, C
 GO Complex\, Lodhi Road\, New Delhi \, India;X-APPLE-RADIUS=100;X-TITLE=Mi
 nistry of Electronics and Information Technology:geo:0,0
END:VEVENT
END:VCALENDAR