BEGIN:VCALENDAR
VERSION:2.0
PRODID:-//wp-events-plugin.com//7.0.2//EN
BEGIN:VEVENT
UID:371@internationaldataspaces.org
DTSTART;TZID=Europe/Vienna;VALUE=DATE:20241113
DTEND;TZID=Europe/Vienna;VALUE=DATE:20241114
DTSTAMP:20241007T074435Z
URL:https://internationaldataspaces.org/events/global-data-spaces-connect-
 2024/
SUMMARY:Global Data Spaces Connect 2024 | Unlocking innovation\, accelerati
 ng business
DESCRIPTION:Join us for an exclusive event hosted by our friends at DIO: Gl
 obal Data Spaces Connect on November 13\, 2024\, in the beautiful city of 
 Vienna. This event\, supported by IDSA with our expertise\, experience\, a
 nd extensive network\, is dedicated to "Unlocking innovation\, acceleratin
 g business" through data spaces.
ATTACH;FMTTYPE=image/jpeg:https://internationaldataspaces.org/wp-content/u
 ploads/Global-Data-Spaces-Connect-Visual_16-9_3.png
CATEGORIES:Fairs &amp; Events,IDSA Events &amp; Live Sessions
LOCATION:Innovation and Technology\, Radetzkystrasse 2\, Vienna\, 1030\, Au
 stria
X-APPLE-STRUCTURED-LOCATION;VALUE=URI;X-ADDRESS=Radetzkystrasse 2\, Vienna\
 , 1030\, Austria;X-APPLE-RADIUS=100;X-TITLE=Innovation and Technology:geo:
 0,0
END:VEVENT
BEGIN:VTIMEZONE
TZID:Europe/Vienna
X-LIC-LOCATION:Europe/Vienna
BEGIN:STANDARD
DTSTART:20241027T020000
TZOFFSETFROM:+0200
TZOFFSETTO:+0100
TZNAME:CET
END:STANDARD
END:VTIMEZONE
END:VCALENDAR