BEGIN:VCALENDAR
VERSION:2.0
PRODID:-//wp-events-plugin.com//7.0.2//EN
BEGIN:VEVENT
UID:98@internationaldataspaces.org
DTSTART:20220914T080000Z
DTEND:20220915T183000Z
DTSTAMP:20220829T124450Z
URL:https://internationaldataspaces.org/events/fiware-global-summit-leadin
 g-the-digital-transformation/
SUMMARY:FIWARE Global Summit | Leading the Digital Transformation
DESCRIPTION:Our partner and member FIWARE is back with a two-day Physical S
 ummit! With their event they want to make a big step on the way of digital
  transformation and bring together their large global network. Main topics
  of the event are making data spaces a reality and establishing open-sourc
 e technology for this purpose. So FIWARE and all can count on our contribu
 tion to this event.
ATTACH;FMTTYPE=image/jpeg:https://internationaldataspaces.org/wp-content/u
 ploads/FiwareSummit22.png
CATEGORIES:Fairs &amp; Events
END:VEVENT
END:VCALENDAR