BEGIN:VCALENDAR
VERSION:2.0
PRODID:-//wp-events-plugin.com//7.0.2//EN
BEGIN:VEVENT
UID:27@internationaldataspaces.org
DTSTART:20210330T090000Z
DTEND:20210330T120000Z
DTSTAMP:20210316T125004Z
URL:https://internationaldataspaces.org/events/euh4d-data-forum-accelerati
 ng-cross-border-data-driven-innovation/
SUMMARY:EUH4D Data Forum: Accelerating Cross-Border Data-Driven Innovation
DESCRIPTION:EUH4D Data Forum is as an annual event to be held within the fr
 amework of the EUH4D project. It is created with the aim of raising awaren
 ess\, sharing results and recommendations\, and receiving contributions on
  strategies and policies from the European Commission around data. Strengt
 hening cross-border data innovation has always been a top priority for the
  European Commission since its Communication on Building a European Data E
 conomy back in 2017 and as reiterated in the Communication “Towards a co
 mmon European Data Space” and in all most recent strategic documents\, i
 ncluding the European Data Strategy of last February.
ATTACH;FMTTYPE=image/jpeg:https://internationaldataspaces.org/wp-content/u
 ploads/210330-IDSA-EUhubs4Data-Forum.jpg
CATEGORIES:Fairs &amp; Events
END:VEVENT
END:VCALENDAR