BEGIN:VCALENDAR
VERSION:2.0
PRODID:-//wp-events-plugin.com//7.0.2//EN
BEGIN:VEVENT
UID:524@internationaldataspaces.org
DTSTART;TZID=Europe/Paris:20250513T090000
DTEND;TZID=Europe/Paris:20250513T160000
DTSTAMP:20250509T132957Z
URL:https://internationaldataspaces.org/events/eona-x-european-data-ai-sum
 mit/
SUMMARY:EONA-X | European Data & AI Summit
DESCRIPTION:Following the success of EONA-X' previous event in 2024\, EONA-
 X is hosting the 3rd edition of their European Data & AI Summit. Save the 
 date for a day dedicated to European innovations and perspectives in data 
 and artificial intelligence. The key panel goes into depth right at the be
 ginning: “Deploying a Collaborative Vision at European Scale”. IDSA sh
 ould not be missing here. Lars Nagel is part of this panel.
ATTACH;FMTTYPE=image/jpeg:https://internationaldataspaces.org/wp-content/u
 ploads/Eona-X-Summit-visual-16-9.png
CATEGORIES:Fairs &amp; Events
LOCATION:MEDEF\, 55 Avenue Bosquet\, Paris\, 75007\, France
X-APPLE-STRUCTURED-LOCATION;VALUE=URI;X-ADDRESS=55 Avenue Bosquet\, Paris\,
  75007\, France;X-APPLE-RADIUS=100;X-TITLE=MEDEF:geo:0,0
END:VEVENT
BEGIN:VTIMEZONE
TZID:Europe/Paris
X-LIC-LOCATION:Europe/Paris
BEGIN:DAYLIGHT
DTSTART:20250330T030000
TZOFFSETFROM:+0100
TZOFFSETTO:+0200
TZNAME:CEST
END:DAYLIGHT
END:VTIMEZONE
END:VCALENDAR