BEGIN:VCALENDAR
VERSION:2.0
PRODID:-//wp-events-plugin.com//7.0.2//EN
BEGIN:VEVENT
UID:519@internationaldataspaces.org
DTSTART;TZID=Europe/Berlin:20250429T130000
DTEND;TZID=Europe/Berlin:20250429T140000
DTSTAMP:20250319T144736Z
URL:https://internationaldataspaces.org/events/energy-data-space-pilot-dat
 abri-x-results-by-siemens/
SUMMARY:Energy Data Space pilot @Databri-X results by Siemens
DESCRIPTION:Join us on April 29\, 2025\, from 13:00 to 14:00 (CET) for a Si
 emens-led webinar on the Energy Data Space pilot. We’ll explore Siemens'
  role\, JenPlane for data analysis\, dataspace architecture\, workflow int
 egration\, and key findings\, including a live demo and next steps.\n\n\n\
 n\n\n\n\n
ATTACH;FMTTYPE=image/jpeg:https://internationaldataspaces.org/wp-content/u
 ploads/IDSA-Social-Media-1-1.png
CATEGORIES:Fairs &amp; Events
END:VEVENT
BEGIN:VTIMEZONE
TZID:Europe/Berlin
X-LIC-LOCATION:Europe/Berlin
BEGIN:DAYLIGHT
DTSTART:20250330T030000
TZOFFSETFROM:+0100
TZOFFSETTO:+0200
TZNAME:CEST
END:DAYLIGHT
END:VTIMEZONE
END:VCALENDAR