BEGIN:VCALENDAR
VERSION:2.0
PRODID:-//wp-events-plugin.com//7.0.2//EN
BEGIN:VEVENT
UID:467@internationaldataspaces.org
DTSTART;TZID=Europe/Berlin;VALUE=DATE:20250303
DTEND;TZID=Europe/Berlin;VALUE=DATE:20250304
DTSTAMP:20250219T155001Z
URL:https://internationaldataspaces.org/events/eclipse-cloud-kick-off-ecli
 pse-foundation/
SUMMARY:Eclipse Cloud Kick-Off | True multi-cloud services\, data and apps
DESCRIPTION:The cloud and data industries are driving trustworthy multi-clo
 ud ecosystems that ensure interoperability\, portability\, and resilience 
 while supporting digital sovereignty. The Eclipse Cloud Interest Group fos
 ters collaboration among cloud providers\, users\, and industry vendors to
  advance interoperable frameworks\, scalable solutions\, and autonomous cl
 oud services\, promoting an open and competitive cloud market aligned with
  European values like privacy\, security\, and fairness. Join to find out 
 more! 
ATTACH;FMTTYPE=image/jpeg:https://internationaldataspaces.org/wp-content/u
 ploads/Eclipse-Cloud-Kick-off-Visual-16-9.png
CATEGORIES:Fairs &amp; Events
END:VEVENT
BEGIN:VTIMEZONE
TZID:Europe/Berlin
X-LIC-LOCATION:Europe/Berlin
BEGIN:STANDARD
DTSTART:20241027T020000
TZOFFSETFROM:+0200
TZOFFSETTO:+0100
TZNAME:CET
END:STANDARD
END:VTIMEZONE
END:VCALENDAR