BEGIN:VCALENDAR
VERSION:2.0
PRODID:-//wp-events-plugin.com//7.0.2//EN
BEGIN:VEVENT
UID:196@internationaldataspaces.org
DTSTART:20221201T150000Z
DTEND:20221201T163000Z
DTSTAMP:20221123T134445Z
URL:https://internationaldataspaces.org/events/dssc-insights-series-data-s
 paces-support-centre-discover-how-to-bring-data-spaces-to-life/
SUMMARY:DSSC Insights Series | Data Spaces Support Centre: Discover how to 
 bring data spaces to life
DESCRIPTION:The Data Spaces Support Centre is aimed at initiatives and comp
 anies that want to create sovereign data spaces. It will explore their nee
 ds\, define common requirements and establish best practices to accelerate
  the formation of data spaces  – key elements of digital transformation
  – at all levels. With the DSSC Insights Series\, you will have the oppo
 rtunity to experience the activities and scope of the DSSC\, to meet its s
 takeholders and actively follow the development of the Data Space Blueprin
 t.
ATTACH;FMTTYPE=image/jpeg:https://internationaldataspaces.org/wp-content/u
 ploads/DSSC-Insights-Webinar-01-general-visual-1920-1080.jpg
CATEGORIES:Fairs &amp; Events,IDSA Events &amp; Live Sessions
END:VEVENT
END:VCALENDAR