BEGIN:VCALENDAR
VERSION:2.0
PRODID:-//wp-events-plugin.com//7.0.2//EN
BEGIN:VEVENT
UID:310@internationaldataspaces.org
DTSTART;TZID=Europe/Berlin;VALUE=DATE:20240521
DTEND;TZID=Europe/Berlin;VALUE=DATE:20240524
DTSTAMP:20240405T140508Z
URL:https://internationaldataspaces.org/events/disruptive-technologies-for
 -industry-challenges-iotswc-2024/
SUMMARY:IoT Solutions World Congress 2024 | Testbed: Sensors\, robots\, dro
 nes plus data spaces
DESCRIPTION:Join us from May 21-23\, 2024\, as Barcelona becomes the gather
 ing place for industry luminaries and leading global tech firms. Discover 
 how disruptive technologies are revolutionizing solutions for industry cha
 llenges. Harness the transformative power of technology to address pressin
 g issues such as climate change and sustainability\, regulatory compliance
 \, and cybersecurity. The focus of this event is on enabling tech-driven t
 ransformation and empowering businesses to unlock their full potential whi
 le promoting sustainability and safeguarding digital assets. 
ATTACH;FMTTYPE=image/jpeg:https://internationaldataspaces.org/wp-content/u
 ploads/MAY-21-23-2024.png
CATEGORIES:Fairs &amp; Events
END:VEVENT
BEGIN:VTIMEZONE
TZID:Europe/Berlin
X-LIC-LOCATION:Europe/Berlin
BEGIN:DAYLIGHT
DTSTART:20240331T030000
TZOFFSETFROM:+0100
TZOFFSETTO:+0200
TZNAME:CEST
END:DAYLIGHT
END:VTIMEZONE
END:VCALENDAR