BEGIN:VCALENDAR
VERSION:2.0
PRODID:-//wp-events-plugin.com//7.0.2//EN
BEGIN:VEVENT
UID:465@internationaldataspaces.org
DTSTART;TZID=Europe/Berlin:20250218T130000
DTEND;TZID=Europe/Berlin:20250218T140000
DTSTAMP:20250127T150105Z
URL:https://internationaldataspaces.org/events/discovering-jenplane-instal
 lation-configuration-and-workflow-management/
SUMMARY:Discovering JenPlane | Installation\, configuration\, and workflow 
 management
DESCRIPTION:Join us for another exciting Databrix webinar on Feb 18\, where
  we'll introduce a powerful robust solution tool\, JenPlane\, designed to 
 enhance yoptimize your organization’s operations through streamlined wor
 kflow automation. 
ATTACH;FMTTYPE=image/jpeg:https://internationaldataspaces.org/wp-content/u
 ploads/IDSA-Social-Media-3.png
CATEGORIES:Fairs &amp; Events,IDSA Events &amp; Live Sessions
END:VEVENT
BEGIN:VTIMEZONE
TZID:Europe/Berlin
X-LIC-LOCATION:Europe/Berlin
BEGIN:STANDARD
DTSTART:20241027T020000
TZOFFSETFROM:+0200
TZOFFSETTO:+0100
TZNAME:CET
END:STANDARD
END:VTIMEZONE
END:VCALENDAR