BEGIN:VCALENDAR
VERSION:2.0
PRODID:-//wp-events-plugin.com//7.0.2//EN
BEGIN:VEVENT
UID:384@internationaldataspaces.org
DTSTART;TZID=Europe/Berlin:20241127T130000
DTEND;TZID=Europe/Berlin:20241127T140000
DTSTAMP:20241122T132408Z
URL:https://internationaldataspaces.org/events/databri-x-tool-session-5-ex
 ploring-additional-tools-powering-databri-x-use-cases/
SUMMARY:DataBri-X Tool Session 5: Exploring additional tools powering DataB
 ri-X use cases  
DESCRIPTION:Join us for an engaging session titled “Exploring Additional 
 Tools Powering DataBri-X Use Cases”\, where we will introduce advanced t
 ools designed to transform data management and enhance innovative solution
 s wtih tools\, such as\, “TripleGEO” and “JenPlane (Composer & Desig
 ner)”\, ensuring data assurance\, enabling professionals to make informe
 d decisions with confidence.\n
ATTACH;FMTTYPE=image/jpeg:https://internationaldataspaces.org/wp-content/u
 ploads/IDSA-Social-Media-2.png
CATEGORIES:Fairs &amp; Events
END:VEVENT
BEGIN:VTIMEZONE
TZID:Europe/Berlin
X-LIC-LOCATION:Europe/Berlin
BEGIN:STANDARD
DTSTART:20241027T020000
TZOFFSETFROM:+0200
TZOFFSETTO:+0100
TZNAME:CET
END:STANDARD
END:VTIMEZONE
END:VCALENDAR