BEGIN:VCALENDAR
VERSION:2.0
PRODID:-//wp-events-plugin.com//7.0.2//EN
BEGIN:VEVENT
UID:253@internationaldataspaces.org
DTSTART;TZID=Europe/Berlin:20231102T140000
DTEND;TZID=Europe/Berlin:20231102T150000
DTSTAMP:20230717T094252Z
URL:https://internationaldataspaces.org/events/databri-x-nova-telecommunic
 ations-pilot-to-improve-network-services-social-media-brand-equity-custome
 r-satisfaction/
SUMMARY:NOVA: Telecommunications pilot to improve network services\, social
  media brand equity & customer satisfaction
DESCRIPTION:Discover how NOVA\, a leading Greek telecom operator\, utilizes
  the DataBri-X toolbox to enhance customer experience\, drive business gro
 wth\, and stay ahead in the competitive telecom industry. Join the webinar
  to learn how data sharing through the toolbox improves call center analys
 is\, social media insights\, and user plane record analysis\, resulting in
  personalized offerings and increased customer satisfaction. Register now!
ATTACH;FMTTYPE=image/jpeg:https://internationaldataspaces.org/wp-content/u
 ploads/IDSA-Social-Media-26.png
CATEGORIES:Fairs &amp; Events
END:VEVENT
BEGIN:VTIMEZONE
TZID:Europe/Berlin
X-LIC-LOCATION:Europe/Berlin
BEGIN:STANDARD
DTSTART:20231029T020000
TZOFFSETFROM:+0200
TZOFFSETTO:+0100
TZNAME:CET
END:STANDARD
END:VTIMEZONE
END:VCALENDAR