BEGIN:VCALENDAR
VERSION:2.0
PRODID:-//wp-events-plugin.com//7.0.2//EN
BEGIN:VEVENT
UID:194@internationaldataspaces.org
DTSTART:20221214T080000Z
DTEND:20221214T093000Z
DTSTAMP:20221116T093216Z
URL:https://internationaldataspaces.org/events/data-spaces-technology-land
 scape-2023/
SUMMARY:Data Spaces Technology Landscape 2023
DESCRIPTION:The implementation technologies and architectures of data space
 s evolve rapidly. Welcome to hear what components are available for the im
 plementers of data spaces now and in which direction the development will 
 progress during 2023.
ATTACH;FMTTYPE=image/jpeg:https://internationaldataspaces.org/wp-content/u
 ploads/DataSpacesTechnology-Landscape-2023.jpg
CATEGORIES:Fairs &amp; Events
LOCATION:The Finnish Innovation Fund Sitra\, Itämerenkatu 11-13\, Helsinki
 \, 00181\, Finland
X-APPLE-STRUCTURED-LOCATION;VALUE=URI;X-ADDRESS=Itämerenkatu 11-13\, Helsi
 nki\, 00181\, Finland;X-APPLE-RADIUS=100;X-TITLE=The Finnish Innovation Fu
 nd Sitra:geo:0,0
END:VEVENT
END:VCALENDAR