BEGIN:VCALENDAR
VERSION:2.0
PRODID:-//wp-events-plugin.com//7.0.2//EN
BEGIN:VEVENT
UID:342@internationaldataspaces.org
DTSTART;TZID=Europe/Berlin:20240516T140000
DTEND;TZID=Europe/Berlin:20240516T153000
DTSTAMP:20240508T173317Z
URL:https://internationaldataspaces.org/events/data-spaces-knowledge-journ
 ey/
SUMMARY:Data Spaces Knowledge Journey
DESCRIPTION:IDSA and ABINC united to drive Brazil's data economy forward. A
 BINC\, now an IDSA member and facilitator of IDSA Hub Brazil\, leads the c
 reation of Data Spaces in the country. Join us on May 16th for the first w
 ebinar\, delving into the future of transparent\, secure\, and reliable da
 ta exchange among organizations.
ATTACH;FMTTYPE=image/jpeg:https://internationaldataspaces.org/wp-content/u
 ploads/post_12.png
CATEGORIES:Fairs &amp; Events,IDSA Events &amp; Live Sessions
END:VEVENT
BEGIN:VTIMEZONE
TZID:Europe/Berlin
X-LIC-LOCATION:Europe/Berlin
BEGIN:DAYLIGHT
DTSTART:20240331T030000
TZOFFSETFROM:+0100
TZOFFSETTO:+0200
TZNAME:CEST
END:DAYLIGHT
END:VTIMEZONE
END:VCALENDAR