BEGIN:VCALENDAR
VERSION:2.0
PRODID:-//wp-events-plugin.com//7.0.2//EN
BEGIN:VEVENT
UID:243@internationaldataspaces.org
DTSTART;TZID=Europe/Vienna:20231019T100000
DTEND;TZID=Europe/Vienna:20231019T180000
DTSTAMP:20230914T171134Z
URL:https://internationaldataspaces.org/events/data-spaces-discovery-day-v
 ienna-business-value-of-sovereign-data-sharing/
SUMMARY:Data Spaces Discovery Day Vienna | Business value of sovereign data
  sharing
DESCRIPTION:A great event ahead this autumn in Vienna: We would like to inv
 ite you for a deep dive into data spaces on October 19. The event\, hosted
  by DIO and IDSA together with partnering organizations and companies from
  the Austrian and European data sharing ecosystem will bring together enth
 usiasts into an interactive discussion on the building blocks and enablers
  and demonstrating the business value of sovereign data sharing. 
ATTACH;FMTTYPE=image/jpeg:https://internationaldataspaces.org/wp-content/u
 ploads/Discovery-day_16.9.png
CATEGORIES:Fairs &amp; Events,IDSA Events &amp; Live Sessions
END:VEVENT
BEGIN:VTIMEZONE
TZID:Europe/Vienna
X-LIC-LOCATION:Europe/Vienna
BEGIN:DAYLIGHT
DTSTART:20230326T030000
TZOFFSETFROM:+0100
TZOFFSETTO:+0200
TZNAME:CEST
END:DAYLIGHT
END:VTIMEZONE
END:VCALENDAR