BEGIN:VCALENDAR
VERSION:2.0
PRODID:-//wp-events-plugin.com//7.0.2//EN
BEGIN:VEVENT
UID:520@internationaldataspaces.org
DTSTART;TZID=Europe/Berlin:20250515T093000
DTEND;TZID=Europe/Berlin:20250515T110000
DTSTAMP:20250508T100916Z
URL:https://internationaldataspaces.org/events/data-space-user-group-launc
 h-event-it-takes-a-village/
SUMMARY:Data Space User Group Launch Event |  "It takes a village"
DESCRIPTION:It takes a village to realize data spaces! Whether you need dat
 a\, or want to share yours\, you need to become a proficient user and unde
 rstand the business\, organizational\, and basic technological aspects of 
 data spaces. On May 15\, we'll officially launch our activities dedicated 
 to Data Space Users.
ATTACH;FMTTYPE=image/jpeg:https://internationaldataspaces.org/wp-content/u
 ploads/Data-Space-User-Group-launch-event-visual-for-Website-1920-1080-2.p
 ng
CATEGORIES:Fairs &amp; Events,IDSA Events &amp; Live Sessions
END:VEVENT
BEGIN:VTIMEZONE
TZID:Europe/Berlin
X-LIC-LOCATION:Europe/Berlin
BEGIN:DAYLIGHT
DTSTART:20250330T030000
TZOFFSETFROM:+0100
TZOFFSETTO:+0200
TZNAME:CEST
END:DAYLIGHT
END:VTIMEZONE
END:VCALENDAR