BEGIN:VCALENDAR
VERSION:2.0
PRODID:-//wp-events-plugin.com//7.0.2//EN
BEGIN:VEVENT
UID:622@internationaldataspaces.org
DTSTART;VALUE=DATE:20260414
DTEND;VALUE=DATE:20260416
DTSTAMP:20251217T205912Z
URL:https://internationaldataspaces.org/events/data-space-fundamentals-59/
SUMMARY:Data Space Fundamentals
DESCRIPTION:Name of training provider: Software Quality Systems (SQS)\n\nAb
 out the course: SQS has been appointed as an Authorized Training Provider
 \, and the first training course\, “Data Space Fundamentals\,” will be
  held in Madrid. This foundational course provides the core principles of 
 data spaces and is considered essential for any professional before starti
 ng any of the three itineraries.\n\nCourse format: Instruction delivered 
 by an ATP instructor\, 8+2 hours\, 2 days\, student performance will be ba
 sed on an official assessment to get the certification.\n\nPrerequisites:
  No Requirements Training will be in English\n\nLocation: Virtual\n\nCou
 rse price: €540 (Official exam included)(VAT not included)\n\nREGISTER
ATTACH;FMTTYPE=image/jpeg:https://internationaldataspaces.org/wp-content/u
 ploads/Training-Data-Space-Fundamentals.jpg
CATEGORIES:Training courses
END:VEVENT
END:VCALENDAR