BEGIN:VCALENDAR
VERSION:2.0
PRODID:-//wp-events-plugin.com//7.0.2//EN
BEGIN:VEVENT
UID:505@internationaldataspaces.org
DTSTART;VALUE=DATE:20250527
DTEND;VALUE=DATE:20250529
DTSTAMP:20250304T152649Z
URL:https://internationaldataspaces.org/events/data-space-fundamentals-13/
SUMMARY:Data Space Fundamentals
DESCRIPTION:SQS\, an Authorised IDSA Training Provider\, presents "Data Spa
 ce Fundamentals" in Madrid. This two-day course covers essential principle
 s of data spaces\, with no prerequisites required. Instruction is delivere
 d by experienced ATP instructors\, and students will undergo an official a
 ssessment for certification. Secure your spot for €400 (excluding offici
 al exam and VAT) and enhance your professional skills in data management.
ATTACH;FMTTYPE=image/jpeg:https://internationaldataspaces.org/wp-content/u
 ploads/Training-Data-Space-Fundamentals.jpg
CATEGORIES:Training courses
END:VEVENT
END:VCALENDAR