BEGIN:VCALENDAR
VERSION:2.0
PRODID:-//wp-events-plugin.com//7.0.2//EN
BEGIN:VEVENT
UID:231@internationaldataspaces.org
DTSTART:20230425T130000Z
DTEND:20230425T141000Z
DTSTAMP:20230424T071413Z
URL:https://internationaldataspaces.org/events/data-sharing-in-the-cloud-i
 n-compliance-with-european-standards/
SUMMARY:Data sharing in the cloud in compliance with European standards
DESCRIPTION:In the Netherlands\, we are working on numerous applications wh
 ere data sharing is important. Think of industrial supply chains\, within 
 the government or in healthcare.\nIn this webinar\, we take you through th
 is development and explain how you\, as a company\, can get involved. Find
  more information about the webinar here.
ATTACH;FMTTYPE=image/jpeg:https://internationaldataspaces.org/wp-content/u
 ploads/Slider-Editorial-Plan.png
CATEGORIES:Fairs &amp; Events
END:VEVENT
END:VCALENDAR